BEGIN:VCALENDAR
VERSION:2.0
PRODID:-//Kings Bay Y - ECPv5.3.2.1//NONSGML v1.0//EN
CALSCALE:GREGORIAN
METHOD:PUBLISH
X-WR-CALNAME:Kings Bay Y
X-ORIGINAL-URL:https://www.kingsbayy.org
X-WR-CALDESC:Events for Kings Bay Y
BEGIN:VTIMEZONE
TZID:America/New_York
BEGIN:DAYLIGHT
TZOFFSETFROM:-0500
TZOFFSETTO:-0400
TZNAME:EDT
DTSTART:20230312T070000
END:DAYLIGHT
BEGIN:STANDARD
TZOFFSETFROM:-0400
TZOFFSETTO:-0500
TZNAME:EST
DTSTART:20231105T060000
END:STANDARD
END:VTIMEZONE
BEGIN:VEVENT
DTSTART;TZID=America/New_York:20230319T140000
DTEND;TZID=America/New_York:20230319T160000
DTSTAMP:20260425T111855
CREATED:20230202T183701Z
LAST-MODIFIED:20230217T164627Z
UID:42856-1679234400-1679241600@www.kingsbayy.org
SUMMARY:Summer Camp Open House
DESCRIPTION:RSVP FOR THE OPEN HOUSE HERE\n 
URL:https://www.kingsbayy.org/event/summer-camp-open-house-3/
ATTACH;FMTTYPE=image/jpeg:https://www.kingsbayy.org/wp-content/uploads/2023/02/KBY-Open-House-Flyer-3-1-scaled.jpg
END:VEVENT
END:VCALENDAR