BEGIN:VCALENDAR
VERSION:2.0
PRODID:-//Kings Bay Y - ECPv5.3.2.1//NONSGML v1.0//EN
CALSCALE:GREGORIAN
METHOD:PUBLISH
X-WR-CALNAME:Kings Bay Y
X-ORIGINAL-URL:https://www.kingsbayy.org
X-WR-CALDESC:Events for Kings Bay Y
BEGIN:VTIMEZONE
TZID:America/New_York
BEGIN:DAYLIGHT
TZOFFSETFROM:-0500
TZOFFSETTO:-0400
TZNAME:EDT
DTSTART:20190310T070000
END:DAYLIGHT
BEGIN:STANDARD
TZOFFSETFROM:-0400
TZOFFSETTO:-0500
TZNAME:EST
DTSTART:20191103T060000
END:STANDARD
END:VTIMEZONE
BEGIN:VEVENT
DTSTART;TZID=America/New_York:20190317T110000
DTEND;TZID=America/New_York:20190317T140000
DTSTAMP:20260420T114738
CREATED:20190217T224405Z
LAST-MODIFIED:20190305T031710Z
UID:12537-1552820400-1552831200@www.kingsbayy.org
SUMMARY:Purim Carnival
DESCRIPTION:Magic shows\, stilt walking clowns\, raffles\, free carnival games\, free arts and crafts\, free face painting\, free hamentashen\, kosher food available\, new rides\, rock climbing wall\, music\, fun and costume parade\, hamentashen eating contest and more!
URL:https://www.kingsbayy.org/event/purim-carnival/
END:VEVENT
END:VCALENDAR