BEGIN:VCALENDAR
VERSION:2.0
PRODID:-//Kings Bay Y - ECPv5.3.2.1//NONSGML v1.0//EN
CALSCALE:GREGORIAN
METHOD:PUBLISH
X-WR-CALNAME:Kings Bay Y
X-ORIGINAL-URL:https://www.kingsbayy.org
X-WR-CALDESC:Events for Kings Bay Y
BEGIN:VTIMEZONE
TZID:America/New_York
BEGIN:DAYLIGHT
TZOFFSETFROM:-0500
TZOFFSETTO:-0400
TZNAME:EDT
DTSTART:20240310T070000
END:DAYLIGHT
BEGIN:STANDARD
TZOFFSETFROM:-0400
TZOFFSETTO:-0500
TZNAME:EST
DTSTART:20241103T060000
END:STANDARD
END:VTIMEZONE
BEGIN:VEVENT
DTSTART;TZID=America/New_York:20240422T180000
DTEND;TZID=America/New_York:20240422T220000
DTSTAMP:20260421T053252
CREATED:20230911T165635Z
LAST-MODIFIED:20230911T165635Z
UID:43186-1713808800-1713823200@www.kingsbayy.org
SUMMARY:Passover - Y closes at 6:00 pm
DESCRIPTION:
URL:https://www.kingsbayy.org/event/passover-y-closes-at-600-pm/
END:VEVENT
END:VCALENDAR